BEGIN:VCALENDAR
VERSION:2.0
PRODID:-//TRANSFORMER TU Wien - ECPv6.15.20//NONSGML v1.0//EN
CALSCALE:GREGORIAN
METHOD:PUBLISH
X-WR-CALNAME:TRANSFORMER TU Wien
X-ORIGINAL-URL:https://transformer.project.tuwien.ac.at
X-WR-CALDESC:Veranstaltungen für TRANSFORMER TU Wien
REFRESH-INTERVAL;VALUE=DURATION:PT1H
X-Robots-Tag:noindex
X-PUBLISHED-TTL:PT1H
BEGIN:VTIMEZONE
TZID:UTC
BEGIN:STANDARD
TZOFFSETFROM:+0000
TZOFFSETTO:+0000
TZNAME:UTC
DTSTART:20250101T000000
END:STANDARD
END:VTIMEZONE
BEGIN:VEVENT
DTSTART;TZID=UTC:20260511T160000
DTEND;TZID=UTC:20260511T180000
DTSTAMP:20260419T205213
CREATED:20260416T071524Z
LAST-MODIFIED:20260416T072003Z
UID:2831-1778515200-1778522400@transformer.project.tuwien.ac.at
SUMMARY:Re-Grow the City
DESCRIPTION:„Hey Stadtdschungel-Expertinnen und Experten: Verwandelt den alten Parkplatz zur neuen Begegnungszone! Entdeckt spielerisch wie aus alten Baumaterialien neue Lebensräume für Bienen und Pflanzen entstehen. Buddeln\, Lernen\, Staunen – gestalte gemeinsam mit deiner Familie ein Stück grüne Zukunft direkt im Stadtumfeld und entdecke\, was Begrünung alles kann.“
URL:https://transformer.project.tuwien.ac.at/events/re-grow-the-city/
LOCATION:Gunoldstraße 12\, 1190\, Gunoldstraße 12\, Wien\, Wien\, 1190\, Austria
CATEGORIES:Zukunftsportal
END:VEVENT
END:VCALENDAR