BEGIN:VCALENDAR
VERSION:2.0
PRODID:-//TRANSFORMER TU Wien - ECPv6.15.20//NONSGML v1.0//EN
CALSCALE:GREGORIAN
METHOD:PUBLISH
X-ORIGINAL-URL:https://transformer.project.tuwien.ac.at
X-WR-CALDESC:Veranstaltungen für TRANSFORMER TU Wien
REFRESH-INTERVAL;VALUE=DURATION:PT1H
X-Robots-Tag:noindex
X-PUBLISHED-TTL:PT1H
BEGIN:VTIMEZONE
TZID:UTC
BEGIN:STANDARD
TZOFFSETFROM:+0000
TZOFFSETTO:+0000
TZNAME:UTC
DTSTART:20250101T000000
END:STANDARD
END:VTIMEZONE
BEGIN:VEVENT
DTSTART;TZID=UTC:20260503T130000
DTEND;TZID=UTC:20260503T150000
DTSTAMP:20260424T060045
CREATED:20260416T072642Z
LAST-MODIFIED:20260416T072642Z
UID:2836-1777813200-1777820400@transformer.project.tuwien.ac.at
SUMMARY:Kleidertausch für Alle (mit Wiener Wäsch)
DESCRIPTION:Bring frischen Wind in deinen Kleiderschrank – ganz ohne Neukauf! Bei unserer Kleidertauschbörse im TRANSFORMER kannst du gut erhaltene Kleidung mitbringen\, tauschen und neue Lieblingsstücke entdecken. Gemeinsam mit Wiener Wäsch setzen wir ein Zeichen für nachhaltigen Konsum\, Ressourcenschonung und kreative Wiederverwendung. \nEgal ob Vintage\, Basics oder ausgefallene Einzelstücke – hier findet Kleidung ein zweites Leben und du vielleicht dein nächstes Lieblingsoutfit. Komm vorbei\, stöbere\, tausche und vernetze dich in entspannter Atmosphäre!
URL:https://transformer.project.tuwien.ac.at/events/kleidertausch-fuer-alle-mit-wiener-waesch/
LOCATION:TU TRANSFORMER\, Rennweg 89a\, Wien\, 1030\, Austria
CATEGORIES:Materialmine,Workshops mit Kooperationspartnern
END:VEVENT
BEGIN:VEVENT
DTSTART;TZID=UTC:20260505T153000
DTEND;TZID=UTC:20260505T173000
DTSTAMP:20260424T060045
CREATED:20260416T071523Z
LAST-MODIFIED:20260416T072156Z
UID:2830-1777995000-1778002200@transformer.project.tuwien.ac.at
SUMMARY:Werkzeugheld:innen Textil
DESCRIPTION:„Im Workshop Werkzeug:held*innen lernt ihr den sicheren und verantwortungsvollen Umgang mit einfachen Werkzeugen. Schritt für Schritt werden grundlegende Techniken vermittelt\, die Mut machen\, selbst Dinge zu bauen\, zu reparieren und kreativ zu gestalten. \nIm Mittelpunkt steht nicht Geschwindigkeit oder Perfektion\, sondern Verständnis\, Sicherheit und eigenes Ausprobieren. Ihr lernt\, wie Werkzeuge funktionieren\, wofür sie eingesetzt werden und worauf ihr achten müsst um sicher zu arbeiten.“
URL:https://transformer.project.tuwien.ac.at/events/werkzeugheldinnen-textil/
LOCATION:TU TRANSFORMER\, Rennweg 89a\, Wien\, 1030\, Austria
CATEGORIES:Zukunftsportal
END:VEVENT
END:VCALENDAR